BEGIN:VCALENDAR
VERSION:2.0
PRODID:-//Hopewellmb - ECPv6.15.16.1//NONSGML v1.0//EN
CALSCALE:GREGORIAN
METHOD:PUBLISH
X-ORIGINAL-URL:https://hopewellmb.org
X-WR-CALDESC:Events for Hopewellmb
REFRESH-INTERVAL;VALUE=DURATION:PT1H
X-Robots-Tag:noindex
X-PUBLISHED-TTL:PT1H
BEGIN:VTIMEZONE
TZID:America/Chicago
BEGIN:DAYLIGHT
TZOFFSETFROM:-0600
TZOFFSETTO:-0500
TZNAME:CDT
DTSTART:20220313T080000
END:DAYLIGHT
BEGIN:STANDARD
TZOFFSETFROM:-0500
TZOFFSETTO:-0600
TZNAME:CST
DTSTART:20221106T070000
END:STANDARD
BEGIN:DAYLIGHT
TZOFFSETFROM:-0600
TZOFFSETTO:-0500
TZNAME:CDT
DTSTART:20230312T080000
END:DAYLIGHT
BEGIN:STANDARD
TZOFFSETFROM:-0500
TZOFFSETTO:-0600
TZNAME:CST
DTSTART:20231105T070000
END:STANDARD
BEGIN:DAYLIGHT
TZOFFSETFROM:-0600
TZOFFSETTO:-0500
TZNAME:CDT
DTSTART:20240310T080000
END:DAYLIGHT
BEGIN:STANDARD
TZOFFSETFROM:-0500
TZOFFSETTO:-0600
TZNAME:CST
DTSTART:20241103T070000
END:STANDARD
END:VTIMEZONE
BEGIN:VEVENT
DTSTART;TZID=America/Chicago:20230626T180000
DTEND;TZID=America/Chicago:20230629T200000
DTSTAMP:20260424T164228
CREATED:20230508T013235Z
LAST-MODIFIED:20230511T210046Z
UID:13380-1687802400-1688068800@hopewellmb.org
SUMMARY:Vacation Bible School 2023
DESCRIPTION:Register today for VBS Wild Life 2023\, June 26 – 29! Children will discover how special they are to God and how wild it is that they can share their story\, use their gifts\, spend time with God\, and spend time with others. Space is limited so early registration is highly encouraged. Please click here for our VBS 2023 Online Registration.
URL:https://hopewellmb.org/event/vacation-bible-school-2023/
LOCATION:Hopewell Missionary Baptist Church\, 400 E Main St\, Carbondale\, IL\, 62901
CATEGORIES:test,Hopewell
END:VEVENT
END:VCALENDAR